BEGIN:VCALENDAR
VERSION:2.0
PRODID:-//West Cork Campus - Cork College of Commerce - ECPv4.5.10//NONSGML v1.0//EN
CALSCALE:GREGORIAN
METHOD:PUBLISH
X-WR-CALNAME:West Cork Campus - Cork College of Commerce
X-ORIGINAL-URL:http://westcorkcampus.corkcollegeofcommerce.ie
X-WR-CALDESC:Events for West Cork Campus - Cork College of Commerce
BEGIN:VEVENT
DTSTART;VALUE=DATE:20170911
DTEND;VALUE=DATE:20170911
DTSTAMP:20171029T214750
CREATED:20170722T083644Z
LAST-MODIFIED:20170722T084901Z
UID:6730-1505088000-1505174399@westcorkcampus.corkcollegeofcommerce.ie
SUMMARY:Full timetable (Day Courses) for Academic Year 2017/2018 Begins
DESCRIPTION:
URL:http://westcorkcampus.corkcollegeofcommerce.ie/event/full-timetable-academic-year-20172018-begins/
END:VEVENT
END:VCALENDAR