BEGIN:VCALENDAR
VERSION:2.0
PRODID:-//West Cork Campus - Cork College of Commerce - ECPv4.5.10//NONSGML v1.0//EN
CALSCALE:GREGORIAN
METHOD:PUBLISH
X-WR-CALNAME:West Cork Campus - Cork College of Commerce
X-ORIGINAL-URL:http://westcorkcampus.corkcollegeofcommerce.ie
X-WR-CALDESC:Events for West Cork Campus - Cork College of Commerce
BEGIN:VEVENT
DTSTART;TZID=Europe/Dublin:20170403T100000
DTEND;TZID=Europe/Dublin:20170407T150000
DTSTAMP:20171029T215337
CREATED:20170319T154229Z
LAST-MODIFIED:20170321T193927Z
UID:6673-1491213600-1491577200@westcorkcampus.corkcollegeofcommerce.ie
SUMMARY:Lifelong Learning Festival
DESCRIPTION: \nDownload events by clicking on our programme list  WestCorkCampusLifelongLearningFestival2017 \nBookings can be made by Telephone: 028-21644 Email: maireosullivan@ccoc.ie \n
URL:http://westcorkcampus.corkcollegeofcommerce.ie/event/lifelong-learning-festival/
LOCATION:Skibbereen\, Co Cork\, Ireland
END:VEVENT
END:VCALENDAR