BEGIN:VCALENDAR
VERSION:2.0
PRODID:-//West Cork Campus - Cork College of Commerce - ECPv4.5.10//NONSGML v1.0//EN
CALSCALE:GREGORIAN
METHOD:PUBLISH
X-WR-CALNAME:West Cork Campus - Cork College of Commerce
X-ORIGINAL-URL:http://westcorkcampus.corkcollegeofcommerce.ie
X-WR-CALDESC:Events for West Cork Campus - Cork College of Commerce
BEGIN:VEVENT
DTSTART;VALUE=DATE:20170829
DTEND;VALUE=DATE:20170829
DTSTAMP:20171029T213445
CREATED:20170722T083206Z
LAST-MODIFIED:20170722T085106Z
UID:6724-1503964800-1504051199@westcorkcampus.corkcollegeofcommerce.ie
SUMMARY:Scheduled Interviews (Day Courses)
DESCRIPTION:All candidates that apply before Friday\, August 18th will be called for a scheduled interview on this day. \n
URL:http://westcorkcampus.corkcollegeofcommerce.ie/event/scheduled-interviews/
END:VEVENT
END:VCALENDAR