BEGIN:VCALENDAR
VERSION:2.0
PRODID:-//West Cork Campus - Cork College of Commerce - ECPv4.5.10//NONSGML v1.0//EN
CALSCALE:GREGORIAN
METHOD:PUBLISH
X-WR-CALNAME:West Cork Campus - Cork College of Commerce
X-ORIGINAL-URL:http://westcorkcampus.corkcollegeofcommerce.ie
X-WR-CALDESC:Events for West Cork Campus - Cork College of Commerce
BEGIN:VEVENT
DTSTART;VALUE=DATE:20170906
DTEND;VALUE=DATE:20170906
DTSTAMP:20171029T214744
CREATED:20170722T083346Z
LAST-MODIFIED:20170722T085126Z
UID:6726-1504656000-1504742399@westcorkcampus.corkcollegeofcommerce.ie
SUMMARY:Walk-in Interviews (Places remaining on Day Courses)
DESCRIPTION:Anybody interested in any remaining places on courses are invited in to apply and attend Interview on this day. \n
URL:http://westcorkcampus.corkcollegeofcommerce.ie/event/walk-in-interviews/
END:VEVENT
END:VCALENDAR