BEGIN:VCALENDAR
VERSION:2.0
PRODID:-//West Cork Campus - Cork College of Commerce - ECPv4.5.10//NONSGML v1.0//EN
CALSCALE:GREGORIAN
METHOD:PUBLISH
X-WR-CALNAME:West Cork Campus - Cork College of Commerce
X-ORIGINAL-URL:http://westcorkcampus.corkcollegeofcommerce.ie
X-WR-CALDESC:Events for West Cork Campus - Cork College of Commerce
BEGIN:VEVENT
DTSTART;TZID=Europe/Dublin:20171024T120000
DTEND;TZID=Europe/Dublin:20171024T133000
DTSTAMP:20171029T214805
CREATED:20171015T183826Z
LAST-MODIFIED:20171015T184444Z
UID:6795-1508846400-1508851800@westcorkcampus.corkcollegeofcommerce.ie
SUMMARY:Zombie Olympics
DESCRIPTION: Poster Zombie OlympicsZombie Olympics consists of seven teams of five who will have to carry out a number of tasks within a strict time frame. There is a charge of €10 per team. There will be a mixture of staff and students on the teams. Light refreshments will be served on the day.  All proceeds to our worthy local charity: Cancer Connect! \n
URL:http://westcorkcampus.corkcollegeofcommerce.ie/event/zombie-olympics/
LOCATION:Skibbereen\, Co Cork\, Ireland
END:VEVENT
END:VCALENDAR